BEGIN:VCALENDAR
VERSION:2.0
PRODID:-//WØC SOTA - ECPv6.15.20//NONSGML v1.0//EN
CALSCALE:GREGORIAN
METHOD:PUBLISH
X-WR-CALNAME:WØC SOTA
X-ORIGINAL-URL:https://w0c-sota.org
X-WR-CALDESC:Events for WØC SOTA
REFRESH-INTERVAL;VALUE=DURATION:PT1H
X-Robots-Tag:noindex
X-PUBLISHED-TTL:PT1H
BEGIN:VTIMEZONE
TZID:America/Denver
BEGIN:DAYLIGHT
TZOFFSETFROM:-0700
TZOFFSETTO:-0600
TZNAME:MDT
DTSTART:20230312T090000
END:DAYLIGHT
BEGIN:STANDARD
TZOFFSETFROM:-0600
TZOFFSETTO:-0700
TZNAME:MST
DTSTART:20231105T080000
END:STANDARD
BEGIN:DAYLIGHT
TZOFFSETFROM:-0700
TZOFFSETTO:-0600
TZNAME:MDT
DTSTART:20240310T090000
END:DAYLIGHT
BEGIN:STANDARD
TZOFFSETFROM:-0600
TZOFFSETTO:-0700
TZNAME:MST
DTSTART:20241103T080000
END:STANDARD
BEGIN:DAYLIGHT
TZOFFSETFROM:-0700
TZOFFSETTO:-0600
TZNAME:MDT
DTSTART:20250309T090000
END:DAYLIGHT
BEGIN:STANDARD
TZOFFSETFROM:-0600
TZOFFSETTO:-0700
TZNAME:MST
DTSTART:20251102T080000
END:STANDARD
BEGIN:DAYLIGHT
TZOFFSETFROM:-0700
TZOFFSETTO:-0600
TZNAME:MDT
DTSTART:20260308T090000
END:DAYLIGHT
BEGIN:STANDARD
TZOFFSETFROM:-0600
TZOFFSETTO:-0700
TZNAME:MST
DTSTART:20261101T080000
END:STANDARD
BEGIN:DAYLIGHT
TZOFFSETFROM:-0700
TZOFFSETTO:-0600
TZNAME:MDT
DTSTART:20270314T090000
END:DAYLIGHT
BEGIN:STANDARD
TZOFFSETFROM:-0600
TZOFFSETTO:-0700
TZNAME:MST
DTSTART:20271107T080000
END:STANDARD
END:VTIMEZONE
BEGIN:VEVENT
DTSTART;VALUE=DATE:20240723
DTEND;VALUE=DATE:20260527
DTSTAMP:20260422T160816
CREATED:20240530T204810Z
LAST-MODIFIED:20240530T204810Z
UID:1957-1721736000-1779796799@w0c-sota.org
SUMMARY:Road Closure to Mt Blue Sky [W0C/FR-003] (formerly known as Mt Evans)
DESCRIPTION:The road up to Mt Blue Sky [W0C/FR-003] (formerly known as Mt Evans) will finally see some improvements. \nThis is a popular drive up 14er [14000 ft+] near Denver CO with an paved access road and therefore very popular among visitors. It also gives easy access to other high summits (incl. SOTA peaks) nearby. \nRoad closures: \n\nLate July or early August 2024 (partially)\nStarting Sept. 3\, 2024\, through all of 2025\, Mount Blue Sky Highway will be closed to motorized and non-motorized travel (foot\, bike\, etc.) (at Highway 5).\nThe area will reopen\, as conditions allow\, on Memorial Day weekend 2026.\n\nImpacted summits: \n\nW0C/FR-003 Mt Blue Sky\nW0C/PR-025 Rodgers Peak\nW0C/PR-020 Gray Wolf Mountain\nW0C/FR-007 Rosalie Peak\n\nThose peaks can be reached by alternate routes. But none of them will be just a drive up summit. You can find all the details on the US-Forest Service Website: \n\nhttps://www.fs.usda.gov/recarea/arp/recarea/?recid=28508 1\n\nKeep that in mind when you are visiting W0C in 2024/2025 and potentially 2026. If you need alternate routes information and are unfamiliar with the area\, shoot me an email.\n73\, Matt/K0MOS
URL:https://w0c-sota.org/event/road-closure-to-mt-blue-sky-w0c-fr-003-formerly-known-as-mt-evans/
END:VEVENT
END:VCALENDAR